BEGIN:VCALENDAR
VERSION:2.0
PRODID:-//ChamberMaster//Event Calendar 2.0//EN
METHOD:PUBLISH
X-PUBLISHED-TTL:P3D
REFRESH-INTERVAL:P3D
CALSCALE:GREGORIAN
BEGIN:VEVENT
DTSTART:20260509T200000Z
DTEND:20260510T000000Z
X-MICROSOFT-CDO-ALLDAYEVENT:FALSE
SUMMARY:Cruise In On the Square
DESCRIPTION:Cruise in with the Memory Lane Cruisers and check out classic rides. Classic Cars\, Antiques\, Hot rods\, Trucks\, Tractors & Motorcycles.  Fun for the Family. Music provided by Tommy Landrum's Cruzin' to the Oldies.  Drive in and join the fun.  $15 Registration Fee.
X-ALT-DESC;FMTTYPE=text/html:Cruise in with the Memory Lane Cruisers and check out classic rides. Classic Cars\, Antiques\, Hot rods\, Trucks\, Tractors &amp\; Motorcycles.&nbsp\; Fun for the Family. Music provided by Tommy Landrum&#39\;s Cruzin&#39\; to the Oldies.&nbsp\; Drive in and join the fun.&nbsp\; $15 Registration Fee.
LOCATION:On the Square Washington Ga
UID:e.2812.4262
SEQUENCE:3
DTSTAMP:20260424T002845Z
URL:http://tourism.washingtonwilkes.org/events/details/cruise-in-on-the-square-05-09-2026-4262
END:VEVENT

END:VCALENDAR
