BEGIN:VCALENDAR
VERSION:2.0
PRODID:-//ChamberMaster//Event Calendar 2.0//EN
METHOD:PUBLISH
X-PUBLISHED-TTL:P3D
REFRESH-INTERVAL:P3D
CALSCALE:GREGORIAN
BEGIN:VEVENT
DTSTART:20170916T230000Z
DTEND:20170917T010000Z
X-MICROSOFT-CDO-ALLDAYEVENT:FALSE
SUMMARY:Downtown Washington Fall Concert
DESCRIPTION:The Splitz Band will be playing a "mixed drink" of the classic Motown sound\, part 1970's funk & disco flavor with a dash of old-school and contemporary R & B. You are guaranteed a good time!
X-ALT-DESC;FMTTYPE=text/html:The Splitz Band will be playing a &quot\;mixed drink&quot\; of the classic Motown sound\, part 1970&#39\;s funk &amp\; disco flavor with a dash of old-school and contemporary R &amp\; B. You are guaranteed a good time!
LOCATION:The Square\, Washington\, Georgia
UID:e.2812.57
SEQUENCE:3
DTSTAMP:20260420T103121Z
URL:http://tourism.washingtonwilkes.org/events/details/downtown-washington-fall-concert-57
END:VEVENT

END:VCALENDAR
