BEGIN:VCALENDAR
VERSION:2.0
PRODID:-//ChamberMaster//Event Calendar 2.0//EN
METHOD:PUBLISH
X-PUBLISHED-TTL:P3D
REFRESH-INTERVAL:P3D
CALSCALE:GREGORIAN
BEGIN:VEVENT
DTSTART:20170921T130000Z
DTEND:20170921T160000Z
X-MICROSOFT-CDO-ALLDAYEVENT:FALSE
SUMMARY:Facebook Digital Bootcamp for Small Businesses
DESCRIPTION:The Small Business Development Center (SBDC) in Augusta will be instructing an intense three hour course on developing stronger local businesses by cultivating marketing strategies using Facebook. Each participant will be given a course booklet outlining the lesson keys.  NO - you do not need a laptop to attend. You will be trained on: \n\n \n\n\n	FACEBOOK BASICS\n	HOW TO DEVELOP A MARKETING STRATEGY\n	HOW TO CREATE A FACEBOOK BUSINESS PAGE\n	HOW TO CREATE A FACEBOOK POST BOOST\n	HOW TO CREATE FACEBOOK ADS\n\n\n \n\nAlso\, each participating for profit business that signs up as a SBDC client will have access to no-cost consulting to help with digital marketing and other areas that the business owner may need help.
X-ALT-DESC;FMTTYPE=text/html:<p dir="ltr" style="line-height:1.2\;margin-top:0pt\;margin-bottom:0pt\;"><span style="font-size:14px\;"><span style="font-family:arial\;"><span style="color:black\;">The Small Business Development Center (SBDC) in Augusta will be instructing an intense three hour course on developing stronger local businesses by cultivating marketing strategies using Facebook. Each participant will be given a course booklet outlining the lesson keys. &nbsp\;NO - you do not need a laptop to attend.&nbsp\;</span><span style="color:black\;">You will be trained on: </span><br />\n&nbsp\;</span></span></p>\n\n<ul>\n	<li style="color:black\;margin-bottom:0in\;margin-bottom:.0001pt\;vertical-align:baseline\;"><span style="font-size:14px\;"><span style="font-family:arial\;">FACEBOOK BASICS</span></span></li>\n	<li style="color:black\;margin-bottom:0in\;margin-bottom:.0001pt\;vertical-align:baseline\;"><span style="font-size:14px\;"><span style="font-family:arial\;">HOW TO DEVELOP A MARKETING STRATEGY</span></span></li>\n	<li style="color:black\;margin-bottom:0in\;margin-bottom:.0001pt\;vertical-align:baseline\;"><span style="font-size:14px\;"><span style="font-family:arial\;">HOW TO CREATE A FACEBOOK BUSINESS PAGE</span></span></li>\n	<li style="color:black\;margin-bottom:0in\;margin-bottom:.0001pt\;vertical-align:baseline\;"><span style="font-size:14px\;"><span style="font-family:arial\;">HOW TO CREATE A FACEBOOK POST BOOST</span></span></li>\n	<li style="color:black\;margin-bottom:0in\;margin-bottom:.0001pt\;vertical-align:baseline\;"><span style="font-size:14px\;"><span style="font-family:arial\;">HOW TO CREATE FACEBOOK ADS</span></span></li>\n</ul>\n\n<p dir="ltr" style="line-height:1.2\;margin-top:0pt\;margin-bottom:0pt\;"><span style="font-size:14px\;"><span style="font-family:arial\;">&nbsp\;<br />\n<span style="color:black\;">Also\, each participating for profit business that signs up as a SBDC client will have access to no-cost consulting to help with digital marketing and other areas that the business owner may need help.</span></span></span></p>\n
LOCATION:Athens Technical College - Washington Campus 20 Lexington Road\, Washington\, GA
UID:e.2812.1059
SEQUENCE:3
DTSTAMP:20260420T124042Z
URL:http://tourism.washingtonwilkes.org/events/details/facebook-digital-bootcamp-for-small-businesses-1059
END:VEVENT

END:VCALENDAR
