BEGIN:VCALENDAR
VERSION:2.0
PRODID:-//ChamberMaster//Event Calendar 2.0//EN
METHOD:PUBLISH
X-PUBLISHED-TTL:P3D
REFRESH-INTERVAL:P3D
CALSCALE:GREGORIAN
BEGIN:VEVENT
DTSTART:20171014T130000Z
DTEND:20171014T200000Z
X-MICROSOFT-CDO-ALLDAYEVENT:FALSE
SUMMARY:Mule Day - Southern Heritage Fesitval
DESCRIPTION:37th Annual Mule Day - Southern Heritage Festival at Callaway Plantation\n\n \n\nCelebrate more than 200 years of agricultural heritage and get a glimpse into the day-to-day life on a plantation.\n\n \n\nMule competitions * Arts & Crafts * Vintage Cars * Antique Tractors & Engines * Primitive Craft Demonstrations * Confederate & Revolutionary War Encampments * Sheep Dog Herding * Petting Zoo * One Room School House * Tours of 3 Historic Homes (given by historians in period costume) * Period Music * Kids Games (including egg-on-a-spoon race) * Sack Race and Much More
X-ALT-DESC;FMTTYPE=text/html:<span style="font-size:14px\;"><span style="font-family:tahoma\;"><span style="font-family:arial\;">37<sup>th</sup> Annual Mule Day - Southern Heritage Festival at Callaway Plantation<br />\n&nbsp\;<br />\nCelebrate more than 200 years of agricultural heritage and get a glimpse into the day-to-day life on a plantation.<br />\n&nbsp\;<br />\nMule competitions * Arts &amp\; Crafts * Vintage Cars * Antique Tractors &amp\; Engines * Primitive Craft Demonstrations * Confederate &amp\; Revolutionary War Encampments * Sheep Dog Herding * Petting Zoo * One Room School House * Tours of 3 Historic Homes (given by historians in period costume) * Period Music * Kids Games (including egg-on-a-spoon race) * Sack Race <em>and Much More</em></span></span></span>
LOCATION:Callaway Plantation 2160 Lexington Rd (US Hwy 78)\, Washington\, GA 30673
UID:e.2812.30
SEQUENCE:3
DTSTAMP:20260420T085645Z
URL:http://tourism.washingtonwilkes.org/events/details/mule-day-southern-heritage-fesitval-30
END:VEVENT

END:VCALENDAR
