BEGIN:VCALENDAR
VERSION:2.0
PRODID:-//ChamberMaster//Event Calendar 2.0//EN
METHOD:PUBLISH
X-PUBLISHED-TTL:P3D
REFRESH-INTERVAL:P3D
CALSCALE:GREGORIAN
BEGIN:VEVENT
DTSTART:20190215T163000Z
DTEND:20190215T183000Z
X-MICROSOFT-CDO-ALLDAYEVENT:FALSE
SUMMARY:SafeHomes Meet & Greet
DESCRIPTION:Rachel Peck\, SafeHomes Outreach Coordinator will be hosting this Meet & Greet to inform our community about domestic violence and the many services SafeHomes can provide those in need. All services are completely free and completely confidential.\n\n \n\nFinger foods and refreshments will be provided by SafeHomes and all community members are welcome. \n\n \n\nSet your reminder for Friday\, February 15 from 11:30-1:30. Stop by the Chamber of Commerce\, meet Rachel and learn about our February Spotlight member\, SafeHomes\, Inc.
X-ALT-DESC;FMTTYPE=text/html:<p><br />\n<span style="color:#222222\;"><span style="font-size:11.0pt\;">Rachel Peck\, SafeHomes Outreach Coordinator will be hosting this Meet &amp\; Greet to inform our community about domestic violence and the many services SafeHomes can provide those in need. All services are completely free and completely confidential.</span></span><br />\n&nbsp\;<br />\n<span style="color:#222222\;"><span style="font-size:11.0pt\;">Finger foods and refreshments will be provided by SafeHomes&nbsp\;and all community members are welcome. </span></span><br />\n&nbsp\;<br />\n<span style="color:#222222\;"><span style="font-size:11.0pt\;">Set your reminder for Friday\, February 15 from 11:30-1:30. Stop by the Chamber of Commerce\, meet Rachel and learn about our February Spotlight member\, SafeHomes\, Inc.</span></span></p>\n\n<div>&nbsp\;<br />\n&nbsp\;</div>\n
LOCATION:Washington-Wilkes Chamber of Commerce 26 West Square Washington\, GA 30673
UID:e.2812.1395
SEQUENCE:3
DTSTAMP:20260421T091645Z
URL:http://tourism.washingtonwilkes.org/events/details/safehomes-meet-greet-1395
END:VEVENT

END:VCALENDAR
