BEGIN:VCALENDAR
VERSION:2.0
PRODID:-//ChamberMaster//Event Calendar 2.0//EN
METHOD:PUBLISH
X-PUBLISHED-TTL:P3D
REFRESH-INTERVAL:P3D
CALSCALE:GREGORIAN
BEGIN:VEVENT
DTSTART:20240703T220000Z
DTEND:20240704T030000Z
X-MICROSOFT-CDO-ALLDAYEVENT:FALSE
SUMMARY:Fireworks Extravaganza
DESCRIPTION:
X-ALT-DESC;FMTTYPE=text/html:
LOCATION:On the Square
UID:e.2812.3836
SEQUENCE:3
DTSTAMP:20260419T193845Z
URL:https://tourism.washingtonwilkes.org/events/details/fireworks-extravaganza-3836
END:VEVENT

END:VCALENDAR
