BEGIN:VCALENDAR
VERSION:2.0
PRODID:-//ChamberMaster//Event Calendar 2.0//EN
METHOD:PUBLISH
X-PUBLISHED-TTL:P3D
REFRESH-INTERVAL:P3D
CALSCALE:GREGORIAN
BEGIN:VEVENT
DTSTART:20240727T220000Z
DTEND:20240728T020000Z
X-MICROSOFT-CDO-ALLDAYEVENT:FALSE
SUMMARY:Washington Little Theater Murder at Gatsby's Gala
DESCRIPTION:Meet & Mingle Happy Hour begins at 6:00\, followed by a delicious supper while experiencing this interactive mystery beginning at 7:00. Guests are encouraged to come dressed for a party in the 1920's.
X-ALT-DESC;FMTTYPE=text/html:Meet &amp\; Mingle Happy Hour begins at 6:00\, followed by a delicious supper while experiencing this interactive mystery beginning at 7:00. Guests are encouraged to come dressed for a party in the 1920&#39\;s.
LOCATION:The Fitzpatrick Hotel Ballroom
UID:e.2812.4084
SEQUENCE:3
DTSTAMP:20260422T073032Z
URL:https://tourism.washingtonwilkes.org/events/details/washington-little-theater-murder-at-gatsby-s-gala-4084
END:VEVENT

END:VCALENDAR
